BEGIN:VCALENDAR
VERSION:2.0
PRODID:-//Stichting Nu! - ECPv5.0.2.1//NONSGML v1.0//EN
CALSCALE:GREGORIAN
METHOD:PUBLISH
X-WR-CALNAME:Stichting Nu!
X-ORIGINAL-URL:http://www.stichtingnu.nl
X-WR-CALDESC:Events for Stichting Nu!
BEGIN:VTIMEZONE
TZID:UTC
BEGIN:STANDARD
TZOFFSETFROM:+0000
TZOFFSETTO:+0000
TZNAME:UTC
DTSTART:20250101T000000
END:STANDARD
END:VTIMEZONE
BEGIN:VEVENT
DTSTART;VALUE=DATE:20250616
DTEND;VALUE=DATE:20250621
DTSTAMP:20260425T231727
CREATED:20250414T203617Z
LAST-MODIFIED:20250414T203617Z
UID:3131-1750032000-1750463999@www.stichtingnu.nl
SUMMARY:Avondvierdaagse 2025
DESCRIPTION:
URL:http://www.stichtingnu.nl/event/avondvierdaagse-2025/
END:VEVENT
END:VCALENDAR