BEGIN:VCALENDAR
VERSION:2.0
PRODID:-//Stichting Nu! - ECPv5.0.2.1//NONSGML v1.0//EN
CALSCALE:GREGORIAN
METHOD:PUBLISH
X-WR-CALNAME:Stichting Nu!
X-ORIGINAL-URL:http://www.stichtingnu.nl
X-WR-CALDESC:Events for Stichting Nu!
BEGIN:VTIMEZONE
TZID:UTC
BEGIN:STANDARD
TZOFFSETFROM:+0000
TZOFFSETTO:+0000
TZNAME:UTC
DTSTART:20260101T000000
END:STANDARD
END:VTIMEZONE
BEGIN:VEVENT
DTSTART;VALUE=DATE:20260518
DTEND;VALUE=DATE:20260523
DTSTAMP:20260426T005141
CREATED:20251110T123809Z
LAST-MODIFIED:20251110T124321Z
UID:3149-1779062400-1779494399@www.stichtingnu.nl
SUMMARY:Avondvierdaagse 2026
DESCRIPTION:
URL:http://www.stichtingnu.nl/event/avondvierdaagse-2026/
LOCATION:Alerimus (de Buitensluis)\, Bernhardstraat 25\, Numansdorp
END:VEVENT
END:VCALENDAR