BEGIN:VCALENDAR
VERSION:2.0
PRODID:-//Stichting Nu! - ECPv5.0.2.1//NONSGML v1.0//EN
CALSCALE:GREGORIAN
METHOD:PUBLISH
X-WR-CALNAME:Stichting Nu!
X-ORIGINAL-URL:http://www.stichtingnu.nl
X-WR-CALDESC:Events for Stichting Nu!
BEGIN:VTIMEZONE
TZID:UTC
BEGIN:STANDARD
TZOFFSETFROM:+0000
TZOFFSETTO:+0000
TZNAME:UTC
DTSTART:20200101T000000
END:STANDARD
END:VTIMEZONE
BEGIN:VEVENT
DTSTART;TZID=UTC:20200826T100000
DTEND;TZID=UTC:20200828T150000
DTSTAMP:20260426T030522
CREATED:20190901T175102Z
LAST-MODIFIED:20190901T175954Z
UID:2218-1598436000-1598626800@www.stichtingnu.nl
SUMMARY:Huttenbouw 2020
DESCRIPTION: \n
URL:http://www.stichtingnu.nl/event/huttenbouw-2020/
ORGANIZER;CN="Stichting%20NU":MAILTO:stichting.nu@gmail.com
END:VEVENT
END:VCALENDAR