BEGIN:VCALENDAR
VERSION:2.0
PRODID:-//Stichting Nu! - ECPv5.0.2.1//NONSGML v1.0//EN
CALSCALE:GREGORIAN
METHOD:PUBLISH
X-WR-CALNAME:Stichting Nu!
X-ORIGINAL-URL:http://www.stichtingnu.nl
X-WR-CALDESC:Events for Stichting Nu!
BEGIN:VTIMEZONE
TZID:UTC
BEGIN:STANDARD
TZOFFSETFROM:+0000
TZOFFSETTO:+0000
TZNAME:UTC
DTSTART:20250101T000000
END:STANDARD
END:VTIMEZONE
BEGIN:VEVENT
DTSTART;VALUE=DATE:20250827
DTEND;VALUE=DATE:20250830
DTSTAMP:20260426T005405
CREATED:20250414T203446Z
LAST-MODIFIED:20250414T203446Z
UID:3129-1756252800-1756511999@www.stichtingnu.nl
SUMMARY:Huttenbouw 2025
DESCRIPTION:
URL:http://www.stichtingnu.nl/event/huttenbouw-2025/
END:VEVENT
END:VCALENDAR