BEGIN:VCALENDAR
VERSION:2.0
PRODID:-//Stichting Nu! - ECPv5.0.2.1//NONSGML v1.0//EN
CALSCALE:GREGORIAN
METHOD:PUBLISH
X-WR-CALNAME:Stichting Nu!
X-ORIGINAL-URL:http://www.stichtingnu.nl
X-WR-CALDESC:Events for Stichting Nu!
BEGIN:VTIMEZONE
TZID:UTC
BEGIN:STANDARD
TZOFFSETFROM:+0000
TZOFFSETTO:+0000
TZNAME:UTC
DTSTART:20260101T000000
END:STANDARD
END:VTIMEZONE
BEGIN:VEVENT
DTSTART;VALUE=DATE:20260826
DTEND;VALUE=DATE:20260829
DTSTAMP:20260426T005243
CREATED:20251110T123547Z
LAST-MODIFIED:20251110T123547Z
UID:3146-1787702400-1787961599@www.stichtingnu.nl
SUMMARY:Huttenbouw 2026
DESCRIPTION:
URL:http://www.stichtingnu.nl/event/huttenbouw-2026/
LOCATION:Sporthal Numansdorp\, Buttervliet 3\, Numansdorp\, Nederland
END:VEVENT
END:VCALENDAR