BEGIN:VCALENDAR
VERSION:2.0
PRODID:-//Stichting Nu! - ECPv5.0.2.1//NONSGML v1.0//EN
CALSCALE:GREGORIAN
METHOD:PUBLISH
X-WR-CALNAME:Stichting Nu!
X-ORIGINAL-URL:http://www.stichtingnu.nl
X-WR-CALDESC:Events for Stichting Nu!
BEGIN:VTIMEZONE
TZID:UTC
BEGIN:STANDARD
TZOFFSETFROM:+0000
TZOFFSETTO:+0000
TZNAME:UTC
DTSTART:20200101T000000
END:STANDARD
END:VTIMEZONE
BEGIN:VEVENT
DTSTART;TZID=UTC:20200406T190000
DTEND;TZID=UTC:20200406T210000
DTSTAMP:20260426T005441
CREATED:20200126T200916Z
LAST-MODIFIED:20200202T185848Z
UID:2369-1586199600-1586206800@www.stichtingnu.nl
SUMMARY:Inschrijven Avond 4 Daagse
DESCRIPTION:
URL:http://www.stichtingnu.nl/event/inschrijven-avond-4-daagse/
LOCATION:Alerimus (de Buitensluis)\, Bernhardstraat 25\, Numansdorp
ATTACH;FMTTYPE=image/jpeg:http://www.stichtingnu.nl/wp-content/uploads/2019/06/652x475-avond4daagse2019.jpg
END:VEVENT
END:VCALENDAR