BEGIN:VCALENDAR
VERSION:2.0
PRODID:-//Stichting Nu! - ECPv5.0.2.1//NONSGML v1.0//EN
CALSCALE:GREGORIAN
METHOD:PUBLISH
X-WR-CALNAME:Stichting Nu!
X-ORIGINAL-URL:http://www.stichtingnu.nl
X-WR-CALDESC:Events for Stichting Nu!
BEGIN:VTIMEZONE
TZID:Europe/Amsterdam
BEGIN:DAYLIGHT
TZOFFSETFROM:+0100
TZOFFSETTO:+0200
TZNAME:CEST
DTSTART:20200329T010000
END:DAYLIGHT
BEGIN:STANDARD
TZOFFSETFROM:+0200
TZOFFSETTO:+0100
TZNAME:CET
DTSTART:20201025T010000
END:STANDARD
END:VTIMEZONE
BEGIN:VEVENT
DTSTART;TZID=Europe/Amsterdam:20200828T183000
DTEND;TZID=Europe/Amsterdam:20200829T000000
DTSTAMP:20260426T011555
CREATED:20190901T180622Z
LAST-MODIFIED:20190901T180930Z
UID:2222-1598639400-1598659200@www.stichtingnu.nl
SUMMARY:Vrijmarkt en prijsuitreiking
DESCRIPTION: \n
URL:http://www.stichtingnu.nl/event/vrijmarkt-en-prijsuitreiking/
LOCATION:Buttervliet 3\, Numansdorp\, Buttervliet\,1 Numansdorp\, Numansdorp\, Zuid-Holland\, 3281 LK\, Nederland
ORGANIZER;CN="Stichting%20NU":MAILTO:stichting.nu@gmail.com
END:VEVENT
END:VCALENDAR